Workbook

Sheet Om filen
A1: Vagtplan med ugenumre og danske helligdage
A3: Hører til guiden 'Vagtplan i Excel med ugenumre og helligdage' på Excelformel.dk.
A4: Skriv en mandag i Vagtplan!B1. Datoer, ugedage, ISO-ugenumre og fridage følger med.
A5: Medarbejder, start og slut skriver du selv. Timer regnes også for vagter over midnat.
A6: Arket 'Timer pr. uge' summerer timerne pr. medarbejder og uge.
A7: Arket 'Helligdage' beregner de danske helligdage for tre år ud fra årstallet i B1.
A9: Oprettet og genberegnet i Microsoft Excel 16.0 (build 20430), dansk sprog, 2026-10-05.
A10: Filen indeholder ingen makroer.
A11: Eksempeldata er opdigtede til illustration.
A12: Excelformel.dk

Sheet Helligdage
A1: Første år | B1: 2026
A3: Helligdag | B3: =B1 -> 2026 | C3: =B3+1 -> 2027 | D3: =C3+1 -> 2028 | F3: Alle helligdage (brug i formler)
A4: Medtag store bededag (ja/nej) | B4: =IF(B3<2024,"ja","nej") -> nej | C4: =IF(C3<2024,"ja","nej") -> nej | D4: =IF(D3<2024,"ja","nej") -> nej | F4: {=_xlfn.LET(_xlpm.d,_xlfn.TOCOL(B5:D15),_xlfn._xlws.SORT(_xlfn._xlws.FILTER(_xlpm.d,ISNUMBER(_xlpm.d))))} -> 46023
A5: Nytårsdag | B5: =DATE(B$3,1,1) -> 46023 | C5: =DATE(C$3,1,1) -> 46388 | D5: =DATE(D$3,1,1) -> 46753 | F5: 46114
A6: Skærtorsdag | B6: =B8-3 -> 46114 | C6: =C8-3 -> 46471 | D6: =D8-3 -> 46856 | F6: 46115
A7: Langfredag | B7: =B8-2 -> 46115 | C7: =C8-2 -> 46472 | D7: =D8-2 -> 46857 | F7: 46117
A8: Påskedag | B8: =_xlfn.LET(_xlpm.år,B$3, _xlpm.a,MOD(_xlpm.år,19), _xlpm.b,INT(_xlpm.år/100), _xlpm.s,MOD(_xlpm.år,100), _xlpm.d,INT(_xlpm.b/4), _xlpm.e,MOD(_xlpm.b,4), _xlpm.f,INT((_xlpm.b+8)/25), _xlpm.g,INT((_xlpm.b-_xlpm.f+1)/3), _xlpm.h,MOD(19*_xlpm.a+_xlpm.b-_xlpm.d-_xlpm.g+15,30), _xlpm.i,INT(_xlpm.s/4), _xlpm.u,MOD(_xlpm.s,4), _xlpm.l,MOD(32+2*_xlpm.e+2*_xlpm.i-_xlpm.h-_xlpm.u,7), _xlpm.m,INT((_xlpm.a+11*_xlpm.h+22*_xlpm.l)/451), DATE(_xlpm.år,3,22+_xlpm.h+_xlpm.l-7*_xlpm.m)) -> 46117 | C8: =_xlfn.LET(_xlpm.år,C$3, _xlpm.a,MOD(_xlpm.år,19), _xlpm.b,INT(_xlpm.år/100), _xlpm.s,MOD(_xlpm.år,100), _xlpm.d,INT(_xlpm.b/4), _xlpm.e,MOD(_xlpm.b,4), _xlpm.f,INT((_xlpm.b+8)/25), _xlpm.g,INT((_xlpm.b-_xlpm.f+1)/3), _xlpm.h,MOD(19*_xlpm.a+_xlpm.b-_xlpm.d-_xlpm.g+15,30), _xlpm.i,INT(_xlpm.s/4), _xlpm.u,MOD(_xlpm.s,4), _xlpm.l,MOD(32+2*_xlpm.e+2*_xlpm.i-_xlpm.h-_xlpm.u,7), _xlpm.m,INT((_xlpm.a+11*_xlpm.h+22*_xlpm.l)/451), DATE(_xlpm.år,3,22+_xlpm.h+_xlpm.l-7*_xlpm.m)) -> 46474 | D8: =_xlfn.LET(_xlpm.år,D$3, _xlpm.a,MOD(_xlpm.år,19), _xlpm.b,INT(_xlpm.år/100), _xlpm.s,MOD(_xlpm.år,100), _xlpm.d,INT(_xlpm.b/4), _xlpm.e,MOD(_xlpm.b,4), _xlpm.f,INT((_xlpm.b+8)/25), _xlpm.g,INT((_xlpm.b-_xlpm.f+1)/3), _xlpm.h,MOD(19*_xlpm.a+_xlpm.b-_xlpm.d-_xlpm.g+15,30), _xlpm.i,INT(_xlpm.s/4), _xlpm.u,MOD(_xlpm.s,4), _xlpm.l,MOD(32+2*_xlpm.e+2*_xlpm.i-_xlpm.h-_xlpm.u,7), _xlpm.m,INT((_xlpm.a+11*_xlpm.h+22*_xlpm.l)/451), DATE(_xlpm.år,3,22+_xlpm.h+_xlpm.l-7*_xlpm.m)) -> 46859 | F8: 46118
A9: 2. påskedag | B9: =B8+1 -> 46118 | C9: =C8+1 -> 46475 | D9: =D8+1 -> 46860 | F9: 46156
A10: Store bededag | B10: =IF(B$4="ja",B8+26,"") | C10: =IF(C$4="ja",C8+26,"") | D10: =IF(D$4="ja",D8+26,"") | F10: 46166
A11: Kristi himmelfartsdag | B11: =B8+39 -> 46156 | C11: =C8+39 -> 46513 | D11: =D8+39 -> 46898 | F11: 46167
A12: Pinsedag | B12: =B8+49 -> 46166 | C12: =C8+49 -> 46523 | D12: =D8+49 -> 46908 | F12: 46381
A13: 2. pinsedag | B13: =B8+50 -> 46167 | C13: =C8+50 -> 46524 | D13: =D8+50 -> 46909 | F13: 46382
A14: Juledag | B14: =DATE(B$3,12,25) -> 46381 | C14: =DATE(C$3,12,25) -> 46746 | D14: =DATE(D$3,12,25) -> 47112 | F14: 46388
A15: 2. juledag | B15: =DATE(B$3,12,26) -> 46382 | C15: =DATE(C$3,12,26) -> 46747 | D15: =DATE(D$3,12,26) -> 47113 | F15: 46471
F16: 46472
A17: Ofte fridage, men ikke helligdage | F17: 46474
A18: 1. maj | B18: =DATE(B$3,5,1) -> 46143 | C18: =DATE(C$3,5,1) -> 46508 | D18: =DATE(D$3,5,1) -> 46874 | F18: 46475
A19: Grundlovsdag | B19: =DATE(B$3,6,5) -> 46178 | C19: =DATE(C$3,6,5) -> 46543 | D19: =DATE(D$3,6,5) -> 46909 | F19: 46513
A20: Juleaftensdag | B20: =DATE(B$3,12,24) -> 46380 | C20: =DATE(C$3,12,24) -> 46745 | D20: =DATE(D$3,12,24) -> 47111 | F20: 46523
A21: Nytårsaftensdag | B21: =DATE(B$3,12,31) -> 46387 | C21: =DATE(C$3,12,31) -> 46752 | D21: =DATE(D$3,12,31) -> 47118 | F21: 46524
F22: 46746
A23: Kontrol: påskedag + 26 dage | B23: =B8+26 -> 46143 | C23: =C8+26 -> 46500 | D23: =D8+26 -> 46885 | F23: 46747
F24: 46753
F25: 46856
F26: 46857
F27: 46859
F28: 46860
F29: 46898
F30: 46908
F31: 46909
F32: 47112
F33: 47113

Sheet Vagtplan
A1: Første mandag | B1: 46377
A3: Dato | B3: Ugedag | C3: Uge | D3: Fridag | E3: Medarbejder | F3: Start | G3: Slut | H3: Timer
A4: =B1 -> 46377 | B4: =TEXT(A4,"dddd") -> mandag | C4: =_xlfn.ISOWEEKNUM(A4) -> 52 | D4: =IF(COUNTIF(_xlfn.ANCHORARRAY(Helligdage!$F$4),A4)>0,"Helligdag",IF(WEEKDAY(A4,2)>5,"Weekend","")) | E4: Anna | F4: 0.29166667 | G4: 0.625 | H4: =IF(F4="","",MOD(G4-F4,1)*24) -> 8
A5: =A4+1 -> 46378 | B5: =TEXT(A5,"dddd") -> tirsdag | C5: =_xlfn.ISOWEEKNUM(A5) -> 52 | D5: =IF(COUNTIF(_xlfn.ANCHORARRAY(Helligdage!$F$4),A5)>0,"Helligdag",IF(WEEKDAY(A5,2)>5,"Weekend","")) | E5: Bo | F5: 0.625 | G5: 0.95833333 | H5: =IF(F5="","",MOD(G5-F5,1)*24) -> 8
A6: =A5+1 -> 46379 | B6: =TEXT(A6,"dddd") -> onsdag | C6: =_xlfn.ISOWEEKNUM(A6) -> 52 | D6: =IF(COUNTIF(_xlfn.ANCHORARRAY(Helligdage!$F$4),A6)>0,"Helligdag",IF(WEEKDAY(A6,2)>5,"Weekend","")) | E6: Carl | F6: 0.95833333 | G6: 0.29166667 | H6: =IF(F6="","",MOD(G6-F6,1)*24) -> 8
A7: =A6+1 -> 46380 | B7: =TEXT(A7,"dddd") -> torsdag | C7: =_xlfn.ISOWEEKNUM(A7) -> 52 | D7: =IF(COUNTIF(_xlfn.ANCHORARRAY(Helligdage!$F$4),A7)>0,"Helligdag",IF(WEEKDAY(A7,2)>5,"Weekend","")) | E7: Anna | F7: 0.29166667 | G7: 0.625 | H7: =IF(F7="","",MOD(G7-F7,1)*24) -> 8
A8: =A7+1 -> 46381 | B8: =TEXT(A8,"dddd") -> fredag | C8: =_xlfn.ISOWEEKNUM(A8) -> 52 | D8: =IF(COUNTIF(_xlfn.ANCHORARRAY(Helligdage!$F$4),A8)>0,"Helligdag",IF(WEEKDAY(A8,2)>5,"Weekend","")) -> Helligdag | H8: =IF(F8="","",MOD(G8-F8,1)*24)
A9: =A8+1 -> 46382 | B9: =TEXT(A9,"dddd") -> lørdag | C9: =_xlfn.ISOWEEKNUM(A9) -> 52 | D9: =IF(COUNTIF(_xlfn.ANCHORARRAY(Helligdage!$F$4),A9)>0,"Helligdag",IF(WEEKDAY(A9,2)>5,"Weekend","")) -> Helligdag | H9: =IF(F9="","",MOD(G9-F9,1)*24)
A10: =A9+1 -> 46383 | B10: =TEXT(A10,"dddd") -> søndag | C10: =_xlfn.ISOWEEKNUM(A10) -> 52 | D10: =IF(COUNTIF(_xlfn.ANCHORARRAY(Helligdage!$F$4),A10)>0,"Helligdag",IF(WEEKDAY(A10,2)>5,"Weekend","")) -> Weekend | H10: =IF(F10="","",MOD(G10-F10,1)*24)
A11: =A10+1 -> 46384 | B11: =TEXT(A11,"dddd") -> mandag | C11: =_xlfn.ISOWEEKNUM(A11) -> 53 | D11: =IF(COUNTIF(_xlfn.ANCHORARRAY(Helligdage!$F$4),A11)>0,"Helligdag",IF(WEEKDAY(A11,2)>5,"Weekend","")) | E11: Bo | F11: 0.625 | G11: 0.95833333 | H11: =IF(F11="","",MOD(G11-F11,1)*24) -> 8
A12: =A11+1 -> 46385 | B12: =TEXT(A12,"dddd") -> tirsdag | C12: =_xlfn.ISOWEEKNUM(A12) -> 53 | D12: =IF(COUNTIF(_xlfn.ANCHORARRAY(Helligdage!$F$4),A12)>0,"Helligdag",IF(WEEKDAY(A12,2)>5,"Weekend","")) | E12: Carl | F12: 0.95833333 | G12: 0.29166667 | H12: =IF(F12="","",MOD(G12-F12,1)*24) -> 8
A13: =A12+1 -> 46386 | B13: =TEXT(A13,"dddd") -> onsdag | C13: =_xlfn.ISOWEEKNUM(A13) -> 53 | D13: =IF(COUNTIF(_xlfn.ANCHORARRAY(Helligdage!$F$4),A13)>0,"Helligdag",IF(WEEKDAY(A13,2)>5,"Weekend","")) | E13: Anna | F13: 0.29166667 | G13: 0.625 | H13: =IF(F13="","",MOD(G13-F13,1)*24) -> 8
A14: =A13+1 -> 46387 | B14: =TEXT(A14,"dddd") -> torsdag | C14: =_xlfn.ISOWEEKNUM(A14) -> 53 | D14: =IF(COUNTIF(_xlfn.ANCHORARRAY(Helligdage!$F$4),A14)>0,"Helligdag",IF(WEEKDAY(A14,2)>5,"Weekend","")) | E14: Bo | F14: 0.625 | G14: 0.95833333 | H14: =IF(F14="","",MOD(G14-F14,1)*24) -> 8
A15: =A14+1 -> 46388 | B15: =TEXT(A15,"dddd") -> fredag | C15: =_xlfn.ISOWEEKNUM(A15) -> 53 | D15: =IF(COUNTIF(_xlfn.ANCHORARRAY(Helligdage!$F$4),A15)>0,"Helligdag",IF(WEEKDAY(A15,2)>5,"Weekend","")) -> Helligdag | H15: =IF(F15="","",MOD(G15-F15,1)*24)
A16: =A15+1 -> 46389 | B16: =TEXT(A16,"dddd") -> lørdag | C16: =_xlfn.ISOWEEKNUM(A16) -> 53 | D16: =IF(COUNTIF(_xlfn.ANCHORARRAY(Helligdage!$F$4),A16)>0,"Helligdag",IF(WEEKDAY(A16,2)>5,"Weekend","")) -> Weekend | H16: =IF(F16="","",MOD(G16-F16,1)*24)
A17: =A16+1 -> 46390 | B17: =TEXT(A17,"dddd") -> søndag | C17: =_xlfn.ISOWEEKNUM(A17) -> 53 | D17: =IF(COUNTIF(_xlfn.ANCHORARRAY(Helligdage!$F$4),A17)>0,"Helligdag",IF(WEEKDAY(A17,2)>5,"Weekend","")) -> Weekend | H17: =IF(F17="","",MOD(G17-F17,1)*24)
A18: =A17+1 -> 46391 | B18: =TEXT(A18,"dddd") -> mandag | C18: =_xlfn.ISOWEEKNUM(A18) -> 1 | D18: =IF(COUNTIF(_xlfn.ANCHORARRAY(Helligdage!$F$4),A18)>0,"Helligdag",IF(WEEKDAY(A18,2)>5,"Weekend","")) | E18: Carl | F18: 0.95833333 | G18: 0.29166667 | H18: =IF(F18="","",MOD(G18-F18,1)*24) -> 8
A19: =A18+1 -> 46392 | B19: =TEXT(A19,"dddd") -> tirsdag | C19: =_xlfn.ISOWEEKNUM(A19) -> 1 | D19: =IF(COUNTIF(_xlfn.ANCHORARRAY(Helligdage!$F$4),A19)>0,"Helligdag",IF(WEEKDAY(A19,2)>5,"Weekend","")) | E19: Anna | F19: 0.29166667 | G19: 0.625 | H19: =IF(F19="","",MOD(G19-F19,1)*24) -> 8
A20: =A19+1 -> 46393 | B20: =TEXT(A20,"dddd") -> onsdag | C20: =_xlfn.ISOWEEKNUM(A20) -> 1 | D20: =IF(COUNTIF(_xlfn.ANCHORARRAY(Helligdage!$F$4),A20)>0,"Helligdag",IF(WEEKDAY(A20,2)>5,"Weekend","")) | E20: Bo | F20: 0.625 | G20: 0.95833333 | H20: =IF(F20="","",MOD(G20-F20,1)*24) -> 8
A21: =A20+1 -> 46394 | B21: =TEXT(A21,"dddd") -> torsdag | C21: =_xlfn.ISOWEEKNUM(A21) -> 1 | D21: =IF(COUNTIF(_xlfn.ANCHORARRAY(Helligdage!$F$4),A21)>0,"Helligdag",IF(WEEKDAY(A21,2)>5,"Weekend","")) | E21: Carl | F21: 0.95833333 | G21: 0.29166667 | H21: =IF(F21="","",MOD(G21-F21,1)*24) -> 8
A22: =A21+1 -> 46395 | B22: =TEXT(A22,"dddd") -> fredag | C22: =_xlfn.ISOWEEKNUM(A22) -> 1 | D22: =IF(COUNTIF(_xlfn.ANCHORARRAY(Helligdage!$F$4),A22)>0,"Helligdag",IF(WEEKDAY(A22,2)>5,"Weekend","")) | E22: Anna | F22: 0.29166667 | G22: 0.625 | H22: =IF(F22="","",MOD(G22-F22,1)*24) -> 8
A23: =A22+1 -> 46396 | B23: =TEXT(A23,"dddd") -> lørdag | C23: =_xlfn.ISOWEEKNUM(A23) -> 1 | D23: =IF(COUNTIF(_xlfn.ANCHORARRAY(Helligdage!$F$4),A23)>0,"Helligdag",IF(WEEKDAY(A23,2)>5,"Weekend","")) -> Weekend | H23: =IF(F23="","",MOD(G23-F23,1)*24)
A24: =A23+1 -> 46397 | B24: =TEXT(A24,"dddd") -> søndag | C24: =_xlfn.ISOWEEKNUM(A24) -> 1 | D24: =IF(COUNTIF(_xlfn.ANCHORARRAY(Helligdage!$F$4),A24)>0,"Helligdag",IF(WEEKDAY(A24,2)>5,"Weekend","")) -> Weekend | H24: =IF(F24="","",MOD(G24-F24,1)*24)
A25: =A24+1 -> 46398 | B25: =TEXT(A25,"dddd") -> mandag | C25: =_xlfn.ISOWEEKNUM(A25) -> 2 | D25: =IF(COUNTIF(_xlfn.ANCHORARRAY(Helligdage!$F$4),A25)>0,"Helligdag",IF(WEEKDAY(A25,2)>5,"Weekend","")) | E25: Bo | F25: 0.625 | G25: 0.95833333 | H25: =IF(F25="","",MOD(G25-F25,1)*24) -> 8
A26: =A25+1 -> 46399 | B26: =TEXT(A26,"dddd") -> tirsdag | C26: =_xlfn.ISOWEEKNUM(A26) -> 2 | D26: =IF(COUNTIF(_xlfn.ANCHORARRAY(Helligdage!$F$4),A26)>0,"Helligdag",IF(WEEKDAY(A26,2)>5,"Weekend","")) | E26: Carl | F26: 0.95833333 | G26: 0.29166667 | H26: =IF(F26="","",MOD(G26-F26,1)*24) -> 8
A27: =A26+1 -> 46400 | B27: =TEXT(A27,"dddd") -> onsdag | C27: =_xlfn.ISOWEEKNUM(A27) -> 2 | D27: =IF(COUNTIF(_xlfn.ANCHORARRAY(Helligdage!$F$4),A27)>0,"Helligdag",IF(WEEKDAY(A27,2)>5,"Weekend","")) | E27: Anna | F27: 0.29166667 | G27: 0.625 | H27: =IF(F27="","",MOD(G27-F27,1)*24) -> 8
A28: =A27+1 -> 46401 | B28: =TEXT(A28,"dddd") -> torsdag | C28: =_xlfn.ISOWEEKNUM(A28) -> 2 | D28: =IF(COUNTIF(_xlfn.ANCHORARRAY(Helligdage!$F$4),A28)>0,"Helligdag",IF(WEEKDAY(A28,2)>5,"Weekend","")) | E28: Bo | F28: 0.625 | G28: 0.95833333 | H28: =IF(F28="","",MOD(G28-F28,1)*24) -> 8
A29: =A28+1 -> 46402 | B29: =TEXT(A29,"dddd") -> fredag | C29: =_xlfn.ISOWEEKNUM(A29) -> 2 | D29: =IF(COUNTIF(_xlfn.ANCHORARRAY(Helligdage!$F$4),A29)>0,"Helligdag",IF(WEEKDAY(A29,2)>5,"Weekend","")) | E29: Carl | F29: 0.95833333 | G29: 0.29166667 | H29: =IF(F29="","",MOD(G29-F29,1)*24) -> 8
A30: =A29+1 -> 46403 | B30: =TEXT(A30,"dddd") -> lørdag | C30: =_xlfn.ISOWEEKNUM(A30) -> 2 | D30: =IF(COUNTIF(_xlfn.ANCHORARRAY(Helligdage!$F$4),A30)>0,"Helligdag",IF(WEEKDAY(A30,2)>5,"Weekend","")) -> Weekend | H30: =IF(F30="","",MOD(G30-F30,1)*24)
A31: =A30+1 -> 46404 | B31: =TEXT(A31,"dddd") -> søndag | C31: =_xlfn.ISOWEEKNUM(A31) -> 2 | D31: =IF(COUNTIF(_xlfn.ANCHORARRAY(Helligdage!$F$4),A31)>0,"Helligdag",IF(WEEKDAY(A31,2)>5,"Weekend","")) -> Weekend | H31: =IF(F31="","",MOD(G31-F31,1)*24)

Sheet Timer pr. uge
A1: Uge | B1: Anna | C1: Bo | D1: Carl | E1: I alt
A2: 52 | B2: =SUMIFS(Vagtplan!$H$4:$H$31,Vagtplan!$C$4:$C$31,$A2,Vagtplan!$E$4:$E$31,B$1) -> 16 | C2: =SUMIFS(Vagtplan!$H$4:$H$31,Vagtplan!$C$4:$C$31,$A2,Vagtplan!$E$4:$E$31,C$1) -> 8 | D2: =SUMIFS(Vagtplan!$H$4:$H$31,Vagtplan!$C$4:$C$31,$A2,Vagtplan!$E$4:$E$31,D$1) -> 8 | E2: =SUM(B2:D2) -> 32
A3: 53 | B3: =SUMIFS(Vagtplan!$H$4:$H$31,Vagtplan!$C$4:$C$31,$A3,Vagtplan!$E$4:$E$31,B$1) -> 8 | C3: =SUMIFS(Vagtplan!$H$4:$H$31,Vagtplan!$C$4:$C$31,$A3,Vagtplan!$E$4:$E$31,C$1) -> 16 | D3: =SUMIFS(Vagtplan!$H$4:$H$31,Vagtplan!$C$4:$C$31,$A3,Vagtplan!$E$4:$E$31,D$1) -> 8 | E3: =SUM(B3:D3) -> 32
A4: 1 | B4: =SUMIFS(Vagtplan!$H$4:$H$31,Vagtplan!$C$4:$C$31,$A4,Vagtplan!$E$4:$E$31,B$1) -> 16 | C4: =SUMIFS(Vagtplan!$H$4:$H$31,Vagtplan!$C$4:$C$31,$A4,Vagtplan!$E$4:$E$31,C$1) -> 8 | D4: =SUMIFS(Vagtplan!$H$4:$H$31,Vagtplan!$C$4:$C$31,$A4,Vagtplan!$E$4:$E$31,D$1) -> 16 | E4: =SUM(B4:D4) -> 40
A5: 2 | B5: =SUMIFS(Vagtplan!$H$4:$H$31,Vagtplan!$C$4:$C$31,$A5,Vagtplan!$E$4:$E$31,B$1) -> 8 | C5: =SUMIFS(Vagtplan!$H$4:$H$31,Vagtplan!$C$4:$C$31,$A5,Vagtplan!$E$4:$E$31,C$1) -> 16 | D5: =SUMIFS(Vagtplan!$H$4:$H$31,Vagtplan!$C$4:$C$31,$A5,Vagtplan!$E$4:$E$31,D$1) -> 16 | E5: =SUM(B5:D5) -> 40
A6: I alt | B6: =SUM(B2:B5) -> 48 | C6: =SUM(C2:C5) -> 48 | D6: =SUM(D2:D5) -> 48 | E6: =SUM(E2:E5) -> 144
