Workbook

Sheet Om filen
A1: LOPSLAG, XOPSLAG og INDEKS/SAMMENLIGN på de samme data
A3: Hører til guiden 'LOPSLAG, XOPSLAG eller INDEKS/SAMMENLIGN – hvilken skal du bruge?' på Excelformel.dk.
A4: Arket 'Opslag' laver det samme opslag med alle tre metoder: almindeligt opslag, opslag til venstre, standard-matchtilstand, håndtering af #I/T og flere kolonner på én gang.
A5: Arket 'Kolonne indsat' viser de samme formler, efter at der er indsat en kolonne Enhed mellem Varenavn og Pris. Formlerne står, som Excel selv justerede dem.
A6: Arket 'Opslag i andet ark' slår op i de to andre ark og viser, hvornår arknavnet skal stå i enkelte anførselstegn.
A7: Skift varenumrene i kolonne E for at prøve andre opslag.
A9: Oprettet og genberegnet i Microsoft Excel 16.0 (build 20326), dansk sprog, 2026-09-18.
A10: Filen indeholder ingen makroer.
A11: Eksempeldata er opdigtede til illustration.
A12: Excelformel.dk

Sheet Opslag
A1: Varenr | B1: Varenavn | C1: Pris | E1: Varenr | F1: LOPSLAG | G1: XOPSLAG | H1: INDEKS/SAMMENLIGN
A2: 1001 | B2: Kuglepen, blå | C2: 8.5 | E2: 1004 | F2: =VLOOKUP(E2,$A$2:$C$7,3,FALSE) -> 42.95 | G2: =_xlfn.XLOOKUP(E2,$A$2:$A$7,$C$2:$C$7) -> 42.95 | H2: =INDEX($C$2:$C$7,MATCH(E2,$A$2:$A$7,0)) -> 42.95
A3: 1002 | B3: Hæftemaskine | C3: 89 | E3: 1005 | F3: =VLOOKUP(E3,$A$2:$C$7,3,FALSE) -> #N/A | G3: =_xlfn.XLOOKUP(E3,$A$2:$A$7,$C$2:$C$7) -> #N/A | H3: =INDEX($C$2:$C$7,MATCH(E3,$A$2:$A$7,0)) -> #N/A
A4: 1004 | B4: Kopipapir A4 | C4: 42.95
A5: 1007 | B5: Notesblok A5 | C5: 24.5 | E5: Varenavn | F5: LOPSLAG | G5: XOPSLAG | H5: INDEKS/SAMMENLIGN
A6: 1010 | B6: Tavlemarker | C6: 17.95 | E6: Hæftemaskine | F6: =VLOOKUP(E6,$A$2:$C$7,1,FALSE) -> #N/A | G6: =_xlfn.XLOOKUP(E6,$B$2:$B$7,$A$2:$A$7) -> 1002 | H6: =INDEX($A$2:$A$7,MATCH(E6,$B$2:$B$7,0)) -> 1002
A7: 1012 | B7: Brevordner | C7: 32
E8: Varenr | F8: LOPSLAG uden 4. argument | G8: XOPSLAG uden matchtilstand | H8: SAMMENLIGN uden 3. argument
E9: 1004 | F9: =VLOOKUP(E9,$A$2:$C$7,3) -> 42.95 | G9: =_xlfn.XLOOKUP(E9,$A$2:$A$7,$C$2:$C$7) -> 42.95 | H9: =INDEX($C$2:$C$7,MATCH(E9,$A$2:$A$7)) -> 42.95
E10: 1005 | F10: =VLOOKUP(E10,$A$2:$C$7,3) -> 42.95 | G10: =_xlfn.XLOOKUP(E10,$A$2:$A$7,$C$2:$C$7) -> #N/A | H10: =INDEX($C$2:$C$7,MATCH(E10,$A$2:$A$7)) -> 42.95
E11: 1000 | F11: =VLOOKUP(E11,$A$2:$C$7,3) -> #N/A | G11: =_xlfn.XLOOKUP(E11,$A$2:$A$7,$C$2:$C$7) -> #N/A | H11: =INDEX($C$2:$C$7,MATCH(E11,$A$2:$A$7)) -> #N/A
E13: Varenr | F13: HVISIT(LOPSLAG) | G13: XOPSLAG med hvis_ikke_fundet | H13: HVIS.FEJL(LOPSLAG)
E14: 1005 | F14: =_xlfn.IFNA(VLOOKUP(E14,$A$2:$C$7,3,FALSE),"Ukendt varenr") -> Ukendt varenr | G14: =_xlfn.XLOOKUP(E14,$A$2:$A$7,$C$2:$C$7,"Ukendt varenr") -> Ukendt varenr | H14: =IFERROR(VLOOKUP(E14,$A$2:$C$7,3,FALSE),"Ukendt varenr") -> Ukendt varenr
E15: 1004 | F15: =_xlfn.IFNA(VLOOKUP(E15,$A$2:$C$7,4,FALSE),"Ukendt varenr") -> #REF! | G15: =_xlfn.XLOOKUP(E15,$A$2:$A$7,$C$2:$C$6,"Ukendt varenr") -> #VALUE! | H15: =IFERROR(VLOOKUP(E15,$A$2:$C$7,4,FALSE),"Ukendt varenr") -> Ukendt varenr | I15: =VLOOKUP(E15,$A$2:$C$7,4,FALSE) -> #REF!
E17: Varenr | F17: XOPSLAG: navn og pris
E18: 1007 | F18: {=_xlfn.XLOOKUP(E18,$A$2:$A$7,$B$2:$C$7)} -> Notesblok A5 | G18: 24.5
F19: INDEKS/SAMMENLIGN: navn og pris
F20: {=INDEX($B$2:$C$7,MATCH(E18,$A$2:$A$7,0),{1,2})} -> Notesblok A5 | G20: 24.5

Sheet Kolonne indsat
A1: Varenr | B1: Varenavn | C1: Enhed | D1: Pris | F1: Varenr | G1: LOPSLAG | H1: XOPSLAG | I1: INDEKS/SAMMENLIGN
A2: 1001 | B2: Kuglepen, blå | C2: stk. | D2: 8.5 | F2: 1004 | G2: =VLOOKUP(F2,$A$2:$D$7,3,FALSE) -> pakke | H2: =_xlfn.XLOOKUP(F2,$A$2:$A$7,$D$2:$D$7) -> 42.95 | I2: =INDEX($D$2:$D$7,MATCH(F2,$A$2:$A$7,0)) -> 42.95
A3: 1002 | B3: Hæftemaskine | C3: stk. | D3: 89
A4: 1004 | B4: Kopipapir A4 | C4: pakke | D4: 42.95
A5: 1007 | B5: Notesblok A5 | C5: stk. | D5: 24.5
A6: 1010 | B6: Tavlemarker | C6: stk. | D6: 17.95
A7: 1012 | B7: Brevordner | C7: stk. | D7: 32

Sheet Opslag i andet ark
A1: Varenr | B1: 1004
A3: Arknavn uden mellemrum: ingen anførselstegn | B3: =VLOOKUP($B$1,Opslag!$A$2:$C$7,3,FALSE) -> 42.95
A4: XOPSLAG i et andet ark | B4: =_xlfn.XLOOKUP($B$1,Opslag!$A$2:$A$7,Opslag!$C$2:$C$7) -> 42.95
A5: Hele kolonner i et andet ark | B5: =VLOOKUP($B$1,Opslag!A:C,3,FALSE) -> 42.95
A6: XOPSLAG med hele kolonner i et andet ark | B6: =_xlfn.XLOOKUP($B$1,Opslag!A:A,Opslag!C:C) -> 42.95
A7: Arknavn med mellemrum: enkelte anførselstegn | B7: =VLOOKUP($B$1,'Kolonne indsat'!$A$2:$D$7,4,FALSE) -> 42.95
A8: INDEKS/SAMMENLIGN på tværs af ark | B8: =INDEX('Kolonne indsat'!$D$2:$D$7,MATCH($B$1,'Kolonne indsat'!$A$2:$A$7,0)) -> 42.95
A9: XOPSLAG, hele kolonner, arknavn med mellemrum | B9: =_xlfn.XLOOKUP($B$1,'Kolonne indsat'!A:A,'Kolonne indsat'!D:D) -> 42.95
A10: Kolonnenummeret tælles i det andet arks område | B10: =VLOOKUP($B$1,'Kolonne indsat'!$A$2:$D$7,3,FALSE) -> pakke
