Workbook

Sheet Om filen
A1: Find og fjern dubletter i dansk Excel
A3: Hører til guiden 'Find og fjern dubletter – også dem der næsten er ens' på Excelformel.dk.
A4: Arket 'Kontakter' har en opdigtet kontaktliste med dubletter, der kun afviger i store/små bogstaver, mellemrum og hårde mellemrum. Kolonne D-J markerer dubletter og finder den nyeste række pr. e-mail.
A5: Arket 'ENTYDIGE' viser ENTYDIGE på den rå e-mail, på den rensede nøgle og med 'præcis én gang'.
A6: Arket 'Nyeste' henter én række pr. e-mail, nemlig den nyeste, med FILTRER.
A8: Oprettet og genberegnet i Microsoft Excel 16.0 (build 20326), dansk sprog, 2026-09-17.
A9: Filen indeholder ingen makroer.
A10: Eksempeldata er opdigtede til illustration.
A11: Excelformel.dk

Sheet Kontakter
A1: Navn | B1: E-mail | C1: Oprettet | D1: Antal (rå) | E1: Nøgle uden TEGN(160) | F1: Nøgle | G1: Antal (nøgle) | H1: Forekomst nr. | I1: Nyeste | J1: Behold | L1: Kontrol
A2: Anna Holm | B2: anna.holm@example.com | C2: 46037 | D2: =COUNTIF($B$2:$B$11,B2) -> 3 | E2: =LOWER(TRIM(B2)) -> anna.holm@example.com | F2: =LOWER(TRIM(SUBSTITUTE(B2,CHAR(160)," "))) -> anna.holm@example.com | G2: =COUNTIF($F$2:$F$11,F2) -> 3 | H2: =COUNTIF($F$2:F2,F2) -> 1 | I2: =COUNTIFS($F$2:$F$11,F2,$C$2:$C$11,">"&C2)=0 -> FALSE | J2: =AND(I2,COUNTIFS($F$2:F2,F2,$C$2:C2,C2)=1) -> FALSE | L2: =LEN(B6) -> 23
A3: Bo Nielsen | B3: bo.nielsen@example.com | C3: 46056 | D3: =COUNTIF($B$2:$B$11,B3) -> 1 | E3: =LOWER(TRIM(B3)) -> bo.nielsen@example.com | F3: =LOWER(TRIM(SUBSTITUTE(B3,CHAR(160)," "))) -> bo.nielsen@example.com | G3: =COUNTIF($F$2:$F$11,F3) -> 2 | H3: =COUNTIF($F$2:F3,F3) -> 1 | I3: =COUNTIFS($F$2:$F$11,F3,$C$2:$C$11,">"&C3)=0 -> FALSE | J3: =AND(I3,COUNTIFS($F$2:F3,F3,$C$2:C3,C3)=1) -> FALSE | L3: =LEN(TRIM(B8)) -> 23
A4: Anna Holm | B4: Anna.Holm@example.com | C4: 46193 | D4: =COUNTIF($B$2:$B$11,B4) -> 3 | E4: =LOWER(TRIM(B4)) -> anna.holm@example.com | F4: =LOWER(TRIM(SUBSTITUTE(B4,CHAR(160)," "))) -> anna.holm@example.com | G4: =COUNTIF($F$2:$F$11,F4) -> 3 | H4: =COUNTIF($F$2:F4,F4) -> 2 | I4: =COUNTIFS($F$2:$F$11,F4,$C$2:$C$11,">"&C4)=0 -> TRUE | J4: =AND(I4,COUNTIFS($F$2:F4,F4,$C$2:C4,C4)=1) -> TRUE | L4: =LEN(F8) -> 22
A5: Karen Lund | B5: karen.lund@example.com | C5: 46092 | D5: =COUNTIF($B$2:$B$11,B5) -> 1 | E5: =LOWER(TRIM(B5)) -> karen.lund@example.com | F5: =LOWER(TRIM(SUBSTITUTE(B5,CHAR(160)," "))) -> karen.lund@example.com | G5: =COUNTIF($F$2:$F$11,F5) -> 2 | H5: =COUNTIF($F$2:F5,F5) -> 1 | I5: =COUNTIFS($F$2:$F$11,F5,$C$2:$C$11,">"&C5)=0 -> FALSE | J5: =AND(I5,COUNTIFS($F$2:F5,F5,$C$2:C5,C5)=1) -> FALSE | L5: =EXACT(B2,B4) -> FALSE
A6: Bo Nielsen | B6: bo.nielsen@example.com | C6: 46144 | D6: =COUNTIF($B$2:$B$11,B6) -> 1 | E6: =LOWER(TRIM(B6)) -> bo.nielsen@example.com | F6: =LOWER(TRIM(SUBSTITUTE(B6,CHAR(160)," "))) -> bo.nielsen@example.com | G6: =COUNTIF($F$2:$F$11,F6) -> 2 | H6: =COUNTIF($F$2:F6,F6) -> 2 | I6: =COUNTIFS($F$2:$F$11,F6,$C$2:$C$11,">"&C6)=0 -> TRUE | J6: =AND(I6,COUNTIFS($F$2:F6,F6,$C$2:C6,C6)=1) -> TRUE | L6: =B2=B4 -> TRUE
A7: Mads Bach | B7: mads.bach@example.com | C7: 46121 | D7: =COUNTIF($B$2:$B$11,B7) -> 2 | E7: =LOWER(TRIM(B7)) -> mads.bach@example.com | F7: =LOWER(TRIM(SUBSTITUTE(B7,CHAR(160)," "))) -> mads.bach@example.com | G7: =COUNTIF($F$2:$F$11,F7) -> 2 | H7: =COUNTIF($F$2:F7,F7) -> 1 | I7: =COUNTIFS($F$2:$F$11,F7,$C$2:$C$11,">"&C7)=0 -> TRUE | J7: =AND(I7,COUNTIFS($F$2:F7,F7,$C$2:C7,C7)=1) -> TRUE
A8: Karen Lund | B8: karen.lund@example.com | C8: 46264 | D8: =COUNTIF($B$2:$B$11,B8) -> 1 | E8: =LOWER(TRIM(B8)) -> karen.lund@example.com | F8: =LOWER(TRIM(SUBSTITUTE(B8,CHAR(160)," "))) -> karen.lund@example.com | G8: =COUNTIF($F$2:$F$11,F8) -> 2 | H8: =COUNTIF($F$2:F8,F8) -> 2 | I8: =COUNTIFS($F$2:$F$11,F8,$C$2:$C$11,">"&C8)=0 -> TRUE | J8: =AND(I8,COUNTIFS($F$2:F8,F8,$C$2:C8,C8)=1) -> TRUE
A9: Lise Frost | B9: lise.frost@example.com | C9: 46067 | D9: =COUNTIF($B$2:$B$11,B9) -> 1 | E9: =LOWER(TRIM(B9)) -> lise.frost@example.com | F9: =LOWER(TRIM(SUBSTITUTE(B9,CHAR(160)," "))) -> lise.frost@example.com | G9: =COUNTIF($F$2:$F$11,F9) -> 1 | H9: =COUNTIF($F$2:F9,F9) -> 1 | I9: =COUNTIFS($F$2:$F$11,F9,$C$2:$C$11,">"&C9)=0 -> TRUE | J9: =AND(I9,COUNTIFS($F$2:F9,F9,$C$2:C9,C9)=1) -> TRUE
A10: Anna Holm | B10: anna.holm@example.com | C10: 46193 | D10: =COUNTIF($B$2:$B$11,B10) -> 3 | E10: =LOWER(TRIM(B10)) -> anna.holm@example.com | F10: =LOWER(TRIM(SUBSTITUTE(B10,CHAR(160)," "))) -> anna.holm@example.com | G10: =COUNTIF($F$2:$F$11,F10) -> 3 | H10: =COUNTIF($F$2:F10,F10) -> 3 | I10: =COUNTIFS($F$2:$F$11,F10,$C$2:$C$11,">"&C10)=0 -> TRUE | J10: =AND(I10,COUNTIFS($F$2:F10,F10,$C$2:C10,C10)=1) -> FALSE
A11: Mads Bach | B11: mads.bach@example.com | C11: 46121 | D11: =COUNTIF($B$2:$B$11,B11) -> 2 | E11: =LOWER(TRIM(B11)) -> mads.bach@example.com | F11: =LOWER(TRIM(SUBSTITUTE(B11,CHAR(160)," "))) -> mads.bach@example.com | G11: =COUNTIF($F$2:$F$11,F11) -> 2 | H11: =COUNTIF($F$2:F11,F11) -> 2 | I11: =COUNTIFS($F$2:$F$11,F11,$C$2:$C$11,">"&C11)=0 -> TRUE | J11: =AND(I11,COUNTIFS($F$2:F11,F11,$C$2:C11,C11)=1) -> FALSE

Sheet ENTYDIGE
A1: ENTYDIGE på rå e-mail | B1: Antal | C1: Indhold | E1: ENTYDIGE på hele rækker (A:C) | H1: Antal rækker
A2: {=_xlfn.UNIQUE(Kontakter!B2:B11)} -> anna.holm@example.com | B2: =ROWS(_xlfn.ANCHORARRAY(A2)) -> 7 | C2: =_xlfn.TEXTJOIN(" | ",FALSE,_xlfn.ANCHORARRAY(A2)) -> anna.holm@example.com | bo.nielsen@example.com | karen.lund@example.com | bo.nielsen@example.com | mads.bach@example.com | karen.lund@example.com | lise.frost@example.com | E2: {=_xlfn.UNIQUE(Kontakter!A2:C11)} -> Anna Holm | F2: anna.holm@example.com | G2: 46037 | H2: =ROWS(_xlfn.ANCHORARRAY(E2)) -> 8
A3: bo.nielsen@example.com | E3: Bo Nielsen | F3: bo.nielsen@example.com | G3: 46056
A4: karen.lund@example.com | E4: Anna Holm | F4: Anna.Holm@example.com | G4: 46193
A5: bo.nielsen@example.com | E5: Karen Lund | F5: karen.lund@example.com | G5: 46092
A6: mads.bach@example.com | E6: Bo Nielsen | F6: bo.nielsen@example.com | G6: 46144
A7: karen.lund@example.com | E7: Mads Bach | F7: mads.bach@example.com | G7: 46121
A8: lise.frost@example.com | E8: Karen Lund | F8: karen.lund@example.com | G8: 46264
E9: Lise Frost | F9: lise.frost@example.com | G9: 46067
A14: ENTYDIGE på nøglen | B14: Antal | C14: Indhold
A15: {=_xlfn.UNIQUE(Kontakter!F2:F11)} -> anna.holm@example.com | B15: =ROWS(_xlfn.ANCHORARRAY(A15)) -> 5 | C15: =_xlfn.TEXTJOIN(" | ",FALSE,_xlfn.ANCHORARRAY(A15)) -> anna.holm@example.com | bo.nielsen@example.com | karen.lund@example.com | mads.bach@example.com | lise.frost@example.com
A16: bo.nielsen@example.com
A17: karen.lund@example.com
A18: mads.bach@example.com
A19: lise.frost@example.com
A24: Kun nøgler der forekommer præcis én gang | B24: Antal | C24: Indhold
A25: {=_xlfn.UNIQUE(Kontakter!F2:F11,,TRUE)} -> lise.frost@example.com | B25: =ROWS(_xlfn.ANCHORARRAY(A25)) -> 1 | C25: =_xlfn.TEXTJOIN(" | ",FALSE,_xlfn.ANCHORARRAY(A25)) -> lise.frost@example.com

Sheet Nyeste
A1: Navn | B1: E-mail | C1: Oprettet | E1: Antal rækker | F1: Navne | G1: Datoer
A2: {=_xlfn._xlws.FILTER(Kontakter!A2:C11,Kontakter!J2:J11)} -> Anna Holm | B2: Anna.Holm@example.com | C2: 46193 | E2: =ROWS(_xlfn.ANCHORARRAY(A2)) -> 5 | F2: =_xlfn.TEXTJOIN(" | ",FALSE,_xlfn.CHOOSECOLS(_xlfn.ANCHORARRAY(A2),1)) -> Anna Holm | Bo Nielsen | Mads Bach | Karen Lund | Lise Frost | G2: {=_xlfn.TEXTJOIN(" | ",FALSE,TEXT(_xlfn.CHOOSECOLS(_xlfn.ANCHORARRAY(A2),3),"dd-mm-åååå"))} -> 20-06-2026 | 02-05-2026 | 09-04-2026 | 30-08-2026 | 14-02-2026
A3: Bo Nielsen | B3: bo.nielsen@example.com | C3: 46144
A4: Mads Bach | B4: mads.bach@example.com | C4: 46121
A5: Karen Lund | B5: karen.lund@example.com | C5: 46264
A6: Lise Frost | B6: lise.frost@example.com | C6: 46067
