Workbook

Sheet Om filen
A1: Arbejdsdage med danske helligdage
A3: Hører til guiden 'Arbejdsdage i Excel' på Excelformel.dk.
A4: Arket 'Helligdage' er helligdagstabellen fra guiden 'Danske helligdage i Excel'. Skriv første år i B1. Listen i F4 bruges af formlerne.
A5: H4:H6 er eksempler på ekstra lukkedage. Ret dem til jeres egne.
A6: Arket 'Tæl arbejdsdage' bruger ANTAL.ARBEJDSDAGE.INTL. Arket 'Frister' bruger ARBEJDSDAG.INTL.
A8: Oprettet og genberegnet i Microsoft Excel 16.0 (build 20326), dansk sprog, 2026-09-17.
A9: Filen indeholder ingen makroer.
A10: Eksempeldata er opdigtede til illustration.
A11: Excelformel.dk

Sheet Helligdage
A1: Første år | B1: 2026
A3: Helligdag | B3: =B1 -> 2026 | C3: =B3+1 -> 2027 | D3: =C3+1 -> 2028 | F3: Alle helligdage (brug i formler) | H3: Ekstra lukkedage
A4: Medtag store bededag (ja/nej) | B4: =IF(B3<2024,"ja","nej") -> nej | C4: =IF(C3<2024,"ja","nej") -> nej | D4: =IF(D3<2024,"ja","nej") -> nej | F4: {=_xlfn.LET(_xlpm.d,_xlfn.TOCOL(B5:D15),_xlfn._xlws.SORT(_xlfn._xlws.FILTER(_xlpm.d,ISNUMBER(_xlpm.d))))} -> 46023 | H4: 46380
A5: Nytårsdag | B5: =DATE(B$3,1,1) -> 46023 | C5: =DATE(C$3,1,1) -> 46388 | D5: =DATE(D$3,1,1) -> 46753 | F5: 46114 | H5: 46387
A6: Skærtorsdag | B6: =B8-3 -> 46114 | C6: =C8-3 -> 46471 | D6: =D8-3 -> 46856 | F6: 46115 | H6: 46543
A7: Langfredag | B7: =B8-2 -> 46115 | C7: =C8-2 -> 46472 | D7: =D8-2 -> 46857 | F7: 46117
A8: Påskedag | B8: =_xlfn.LET(_xlpm.år,B$3, _xlpm.a,MOD(_xlpm.år,19), _xlpm.b,INT(_xlpm.år/100), _xlpm.s,MOD(_xlpm.år,100), _xlpm.d,INT(_xlpm.b/4), _xlpm.e,MOD(_xlpm.b,4), _xlpm.f,INT((_xlpm.b+8)/25), _xlpm.g,INT((_xlpm.b-_xlpm.f+1)/3), _xlpm.h,MOD(19*_xlpm.a+_xlpm.b-_xlpm.d-_xlpm.g+15,30), _xlpm.i,INT(_xlpm.s/4), _xlpm.u,MOD(_xlpm.s,4), _xlpm.l,MOD(32+2*_xlpm.e+2*_xlpm.i-_xlpm.h-_xlpm.u,7), _xlpm.m,INT((_xlpm.a+11*_xlpm.h+22*_xlpm.l)/451), DATE(_xlpm.år,3,22+_xlpm.h+_xlpm.l-7*_xlpm.m)) -> 46117 | C8: =_xlfn.LET(_xlpm.år,C$3, _xlpm.a,MOD(_xlpm.år,19), _xlpm.b,INT(_xlpm.år/100), _xlpm.s,MOD(_xlpm.år,100), _xlpm.d,INT(_xlpm.b/4), _xlpm.e,MOD(_xlpm.b,4), _xlpm.f,INT((_xlpm.b+8)/25), _xlpm.g,INT((_xlpm.b-_xlpm.f+1)/3), _xlpm.h,MOD(19*_xlpm.a+_xlpm.b-_xlpm.d-_xlpm.g+15,30), _xlpm.i,INT(_xlpm.s/4), _xlpm.u,MOD(_xlpm.s,4), _xlpm.l,MOD(32+2*_xlpm.e+2*_xlpm.i-_xlpm.h-_xlpm.u,7), _xlpm.m,INT((_xlpm.a+11*_xlpm.h+22*_xlpm.l)/451), DATE(_xlpm.år,3,22+_xlpm.h+_xlpm.l-7*_xlpm.m)) -> 46474 | D8: =_xlfn.LET(_xlpm.år,D$3, _xlpm.a,MOD(_xlpm.år,19), _xlpm.b,INT(_xlpm.år/100), _xlpm.s,MOD(_xlpm.år,100), _xlpm.d,INT(_xlpm.b/4), _xlpm.e,MOD(_xlpm.b,4), _xlpm.f,INT((_xlpm.b+8)/25), _xlpm.g,INT((_xlpm.b-_xlpm.f+1)/3), _xlpm.h,MOD(19*_xlpm.a+_xlpm.b-_xlpm.d-_xlpm.g+15,30), _xlpm.i,INT(_xlpm.s/4), _xlpm.u,MOD(_xlpm.s,4), _xlpm.l,MOD(32+2*_xlpm.e+2*_xlpm.i-_xlpm.h-_xlpm.u,7), _xlpm.m,INT((_xlpm.a+11*_xlpm.h+22*_xlpm.l)/451), DATE(_xlpm.år,3,22+_xlpm.h+_xlpm.l-7*_xlpm.m)) -> 46859 | F8: 46118
A9: 2. påskedag | B9: =B8+1 -> 46118 | C9: =C8+1 -> 46475 | D9: =D8+1 -> 46860 | F9: 46156
A10: Store bededag | B10: =IF(B$4="ja",B8+26,"") | C10: =IF(C$4="ja",C8+26,"") | D10: =IF(D$4="ja",D8+26,"") | F10: 46166
A11: Kristi himmelfartsdag | B11: =B8+39 -> 46156 | C11: =C8+39 -> 46513 | D11: =D8+39 -> 46898 | F11: 46167
A12: Pinsedag | B12: =B8+49 -> 46166 | C12: =C8+49 -> 46523 | D12: =D8+49 -> 46908 | F12: 46381
A13: 2. pinsedag | B13: =B8+50 -> 46167 | C13: =C8+50 -> 46524 | D13: =D8+50 -> 46909 | F13: 46382
A14: Juledag | B14: =DATE(B$3,12,25) -> 46381 | C14: =DATE(C$3,12,25) -> 46746 | D14: =DATE(D$3,12,25) -> 47112 | F14: 46388
A15: 2. juledag | B15: =DATE(B$3,12,26) -> 46382 | C15: =DATE(C$3,12,26) -> 46747 | D15: =DATE(D$3,12,26) -> 47113 | F15: 46471
F16: 46472
A17: Ofte fridage, men ikke helligdage | F17: 46474
A18: 1. maj | B18: =DATE(B$3,5,1) -> 46143 | C18: =DATE(C$3,5,1) -> 46508 | D18: =DATE(D$3,5,1) -> 46874 | F18: 46475
A19: Grundlovsdag | B19: =DATE(B$3,6,5) -> 46178 | C19: =DATE(C$3,6,5) -> 46543 | D19: =DATE(D$3,6,5) -> 46909 | F19: 46513
A20: Juleaftensdag | B20: =DATE(B$3,12,24) -> 46380 | C20: =DATE(C$3,12,24) -> 46745 | D20: =DATE(D$3,12,24) -> 47111 | F20: 46523
A21: Nytårsaftensdag | B21: =DATE(B$3,12,31) -> 46387 | C21: =DATE(C$3,12,31) -> 46752 | D21: =DATE(D$3,12,31) -> 47118 | F21: 46524
F22: 46746
A23: Kontrol: påskedag + 26 dage | B23: =B8+26 -> 46143 | C23: =C8+26 -> 46500 | D23: =D8+26 -> 46885 | F23: 46747
F24: 46753
F25: 46856
F26: 46857
F27: 46859
F28: 46860
F29: 46898
F30: 46908
F31: 46909
F32: 47112
F33: 47113

Sheet Tæl arbejdsdage
A1: Startdato | B1: Slutdato | C1: Uden helligdage | D1: Med helligdage | E1: Bemærkning
A2: 46111 | B2: 46122 | C2: =NETWORKDAYS.INTL(A2,B2) -> 10 | D2: =NETWORKDAYS.INTL(A2,B2,1,_xlfn.ANCHORARRAY(Helligdage!$F$4)) -> 7 | E2: Påskeugen og ugen efter
A3: 46113 | B3: 46113 | C3: =NETWORKDAYS.INTL(A3,B3) -> 1 | D3: =NETWORKDAYS.INTL(A3,B3,1,_xlfn.ANCHORARRAY(Helligdage!$F$4)) -> 1 | E3: Samme dag, onsdag
A4: 46115 | B4: 46115 | C4: =NETWORKDAYS.INTL(A4,B4) -> 1 | D4: =NETWORKDAYS.INTL(A4,B4,1,_xlfn.ANCHORARRAY(Helligdage!$F$4)) -> 0 | E4: Samme dag, langfredag
A5: 46122 | B5: 46111 | C5: =NETWORKDAYS.INTL(A5,B5) -> -10 | D5: =NETWORKDAYS.INTL(A5,B5,1,_xlfn.ANCHORARRAY(Helligdage!$F$4)) -> -7 | E5: Start efter slut
A6: 46377 | B6: 46395 | C6: =NETWORKDAYS.INTL(A6,B6) -> 15 | D6: =NETWORKDAYS.INTL(A6,B6,1,_xlfn.ANCHORARRAY(Helligdage!$F$4)) -> 13 | E6: Hen over jul og nytår
A7: 46023 | B7: 46387 | C7: =NETWORKDAYS.INTL(A7,B7) -> 261 | D7: =NETWORKDAYS.INTL(A7,B7,1,_xlfn.ANCHORARRAY(Helligdage!$F$4)) -> 254 | E7: Hele 2026
A10: Varianter (påskeperioden 30-03-2026 til 10-04-2026) | B10: Resultat
A11: Weekend som tekst 0000011 | B11: =NETWORKDAYS.INTL(A2,B2,"0000011",_xlfn.ANCHORARRAY(Helligdage!$F$4)) -> 7
A12: Kun søndag fri: 0000001 | B12: =NETWORKDAYS.INTL(A2,B2,"0000001",_xlfn.ANCHORARRAY(Helligdage!$F$4)) -> 8
A13: Fri fredag-søndag: 0000111 | B13: =NETWORKDAYS.INTL(A2,B2,"0000111",_xlfn.ANCHORARRAY(Helligdage!$F$4)) -> 6
A14: Ugyldig streng med 6 tegn | B14: =NETWORKDAYS.INTL(A2,B2,"000011",_xlfn.ANCHORARRAY(Helligdage!$F$4)) -> #VALUE!
A15: Uden startdatoen (dage efter start) | B15: =NETWORKDAYS.INTL(A2+1,B2,1,_xlfn.ANCHORARRAY(Helligdage!$F$4)) -> 6
A17: Jul/nytår med ekstra lukkedage (række 6) | B17: =NETWORKDAYS.INTL(A6,B6,1,_xlfn.VSTACK(_xlfn.ANCHORARRAY(Helligdage!$F$4),Helligdage!H4:H6)) -> 11
A19: Helligdagsliste med tom celle | B19: =NETWORKDAYS.INTL(A2,B2,1,G20:G23) -> 7 | G19: Liste med tom celle | H19: Liste med ""
A20: Helligdagsliste med tom tekst "" | B20: =NETWORKDAYS.INTL(A2,B2,1,H20:H23) -> #VALUE! | G20: 46114 | H20: 46114
G21: 46115 | H21: 46115
H22: =""
G23: 46118 | H23: 46118

Sheet Frister
A1: Startdato | B1: Arbejdsdage | C1: Frist | D1: Bemærkning
A2: 46113 | B2: 5 | C2: =WORKDAY.INTL(A2,B2,1,_xlfn.ANCHORARRAY(Helligdage!$F$4)) -> 46125 | D2: 5 arbejdsdage over påske
A3: 46113 | B3: 5 | C3: =WORKDAY.INTL(A3,B3) -> 46120 | D3: Samme uden helligdage
A4: 46122 | B4: -5 | C4: =WORKDAY.INTL(A4,B4,1,_xlfn.ANCHORARRAY(Helligdage!$F$4)) -> 46112 | D4: 5 arbejdsdage tilbage
A5: 46115 | B5: 0 | C5: =WORKDAY.INTL(A5,B5,1,_xlfn.ANCHORARRAY(Helligdage!$F$4)) -> 46115 | D5: 0 dage fra langfredag
A6: 46374 | B6: 10 | C6: =WORKDAY.INTL(A6,B6,1,_xlfn.ANCHORARRAY(Helligdage!$F$4)) -> 46392 | D6: 10 arbejdsdage over jul
A7: 46113 | B7: 2.7 | C7: =WORKDAY.INTL(A7,B7,1,_xlfn.ANCHORARRAY(Helligdage!$F$4)) -> 46120 | D7: Decimaltal
A8: 46113 | B8: 5 | C8: =WORKDAY.INTL(A8-1,B8,1,_xlfn.ANCHORARRAY(Helligdage!$F$4)) -> 46122 | D8: Startdagen tæller som dag 1
A10: Dato | B10: Næste arbejdsdag (samme dag hvis arbejdsdag) | C10: Er arbejdsdag
A11: 46381 | B11: =WORKDAY.INTL(A11-1,1,1,_xlfn.ANCHORARRAY(Helligdage!$F$4)) -> 46384 | C11: =NETWORKDAYS.INTL(A11,A11,1,_xlfn.ANCHORARRAY(Helligdage!$F$4))=1 -> FALSE
A12: 46385 | B12: =WORKDAY.INTL(A12-1,1,1,_xlfn.ANCHORARRAY(Helligdage!$F$4)) -> 46385 | C12: =NETWORKDAYS.INTL(A12,A12,1,_xlfn.ANCHORARRAY(Helligdage!$F$4))=1 -> TRUE
A13: 46116 | B13: =WORKDAY.INTL(A13-1,1,1,_xlfn.ANCHORARRAY(Helligdage!$F$4)) -> 46119 | C13: =NETWORKDAYS.INTL(A13,A13,1,_xlfn.ANCHORARRAY(Helligdage!$F$4))=1 -> FALSE
A15: Frist 18-12-2026 + 10 med ekstra lukkedage | C15: =WORKDAY.INTL(A6,B6,1,_xlfn.VSTACK(_xlfn.ANCHORARRAY(Helligdage!$F$4),Helligdage!H4:H6)) -> 46394
